BEGIN:VCALENDAR
VERSION:2.0
PRODID:-//hacksw/handcal//NONSGML v1.0//EN
CALSCALE:GREGORIAN
BEGIN:VEVENT
ORGANIZER;CN=South Plains Financial:MAILTO:no-reply@gcs-web.com
DTEND:
UID:b7e9fd91-dec9-4987-bc77-abe5ed7f9afe
DTSTAMP:1776672176
LOCATION:https://viavid.webcasts.com/starthere.jsp?ei=1759077&tp_key=c1c42cbfea
DESCRIPTION:Event Details https://www.spfi.bank/events/event-details/south-plains-financial-first-quarter-2026-earnings-call\n\nWebcast: https://viavid.webcasts.com/starthere.jsp?ei=1759077&tp_key=c1c42cbfea
URL;VALUE=URI:https://viavid.webcasts.com/starthere.jsp?ei=1759077&tp_key=c1c42cbfea
SUMMARY:South Plains Financial - South Plains Financial First Quarter 2026 Earnings Call
DTSTART:20260428T210000Z
END:VEVENT
END:VCALENDAR